BEGIN:VCALENDAR
VERSION:2.0
PRODID:-//wp-events-plugin.com//7.2.3.1//EN
TZID:Europe/Paris
X-WR-TIMEZONE:Europe/Paris
BEGIN:VEVENT
UID:31@adn-sms.fr
DTSTART;TZID=Europe/Paris:20250412T100000
DTEND;TZID=Europe/Paris:20250412T120000
DTSTAMP:20250213T114528Z
URL:https://www.adn-sms.fr/events/2040/
SUMMARY:Sortie oiseaux forestiers
DESCRIPTION:Sortie consacrée aux oiseaux forestiers : écoute des chants\,
  préférence d'habitat des différentes espèces\, etc. Pour profiter de 
 la sortie\, vous pouvez télécharger l'application Merlin-bird ID sur vot
 re téléphone\, ainsi que la bibliothèque Europe occidentale de l'applic
 ation.\n\nDépart au Vernay (lieu-dit de Satonnay) à 10h.
ATTACH;FMTTYPE=image/jpeg:https://www.adn-sms.fr/wp-content/uploads/2025/0
 1/sortie-oiseaux-illustration-merlin.jpg
CATEGORIES:Sortie
END:VEVENT
BEGIN:VTIMEZONE
TZID:Europe/Paris
X-LIC-LOCATION:Europe/Paris
BEGIN:DAYLIGHT
DTSTART:20250330T030000
TZOFFSETFROM:+0100
TZOFFSETTO:+0200
TZNAME:CEST
END:DAYLIGHT
END:VTIMEZONE
END:VCALENDAR