BEGIN:VCALENDAR
VERSION:2.0
PRODID:-//wp-events-plugin.com//7.2.3.1//EN
TZID:Europe/Paris
X-WR-TIMEZONE:Europe/Paris
BEGIN:VEVENT
UID:17@adn-sms.fr
DTSTART;TZID=Europe/Paris:20240406T140000
DTEND;TZID=Europe/Paris:20240406T160000
DTSTAMP:20240320T182047Z
URL:https://www.adn-sms.fr/events/amenagement-sites-de-reproduction-triton
 s/
SUMMARY:Aménagement sites de reproduction tritons
DESCRIPTION:Décomblement et creusement des ornières et des mares foresti
 ères autrefois utilisées par les tritons palmés et les grenouilles agil
 es pour se reproduire + ramassage des déchets.\n\nRendez vous à 14h plac
 e de la mairie . Bottes conseillées.
ATTACH;FMTTYPE=image/jpeg:https://www.adn-sms.fr/wp-content/uploads/2024/0
 2/Triton-palme-1.jpg
CATEGORIES:Sortie
END:VEVENT
BEGIN:VTIMEZONE
TZID:Europe/Paris
X-LIC-LOCATION:Europe/Paris
BEGIN:DAYLIGHT
DTSTART:20240331T030000
TZOFFSETFROM:+0100
TZOFFSETTO:+0200
TZNAME:CEST
END:DAYLIGHT
END:VTIMEZONE
END:VCALENDAR