BEGIN:VCALENDAR
VERSION:2.0
PRODID:-//wp-events-plugin.com//7.2.3.1//EN
TZID:Europe/Paris
X-WR-TIMEZONE:Europe/Paris
BEGIN:VEVENT
UID:27@adn-sms.fr
DTSTART;TZID=Europe/Paris:20250125T160000
DTEND;TZID=Europe/Paris:20250125T190000
DTSTAMP:20241216T132401Z
URL:https://www.adn-sms.fr/events/assemblee-generale-2/
SUMMARY:Assemblée générale
DESCRIPTION:Assemblée générale annuelle : bilan 2024\, établissement du
  calendrier 2025.\n\nSalle des associations aux Jaudières\, samedi 25 jan
 vier à 16h.\n\n&nbsp\;
ATTACH;FMTTYPE=image/jpeg:https://www.adn-sms.fr/wp-content/uploads/2024/1
 2/2023-assemblee-generale.jpg
CATEGORIES:Réunion
END:VEVENT
BEGIN:VTIMEZONE
TZID:Europe/Paris
X-LIC-LOCATION:Europe/Paris
BEGIN:STANDARD
DTSTART:20241027T020000
TZOFFSETFROM:+0200
TZOFFSETTO:+0100
TZNAME:CET
END:STANDARD
END:VTIMEZONE
END:VCALENDAR