BEGIN:VCALENDAR
VERSION:2.0
PRODID:-//wp-events-plugin.com//7.2.3.1//EN
TZID:Europe/Paris
X-WR-TIMEZONE:Europe/Paris
BEGIN:VEVENT
UID:35@adn-sms.fr
DTSTART;TZID=Europe/Paris:20251011T160000
DTEND;TZID=Europe/Paris:20251011T180000
DTSTAMP:20250131T100545Z
URL:https://www.adn-sms.fr/events/assemblee-generale-extraordinaire/
SUMMARY:Assemblée générale extraordinaire
DESCRIPTION:Assemblée générale pour discuter du futur de l'association\,
  et plus particulièrement de son champ d'activités.\n\nSalle des associa
 tions des Jaudières\, 16h.
ATTACH;FMTTYPE=image/jpeg:https://www.adn-sms.fr/wp-content/uploads/2025/0
 1/assemblee-generale-exotraordinaire-adn-illustration.jpg
CATEGORIES:Réunion
END:VEVENT
BEGIN:VTIMEZONE
TZID:Europe/Paris
X-LIC-LOCATION:Europe/Paris
BEGIN:DAYLIGHT
DTSTART:20250330T030000
TZOFFSETFROM:+0100
TZOFFSETTO:+0200
TZNAME:CEST
END:DAYLIGHT
END:VTIMEZONE
END:VCALENDAR