BEGIN:VCALENDAR
VERSION:2.0
PRODID:-//wp-events-plugin.com//7.2.3.1//EN
TZID:Europe/Paris
X-WR-TIMEZONE:Europe/Paris
BEGIN:VEVENT
UID:22@adn-sms.fr
DTSTART;TZID=Europe/Paris:20241012T100000
DTEND;TZID=Europe/Paris:20241012T120000
DTSTAMP:20241006T101831Z
URL:https://www.adn-sms.fr/events/atelier-fabrication-nichoirs/
SUMMARY:Sortie camera trap
DESCRIPTION:Sortie consacrée à l'utilisation des pièges vidéo (emplacem
 ents et réglages optimaux\, influence des espèces ciblées...). Rendez v
 ous le samedi 12 octobre\, place de la mairie à 10h pour la pose des cam
 éras.\n\nRelevé des caméras le lendemain matin (rendez vous le dimanche
  13 octobre\, place de la mairie à 10h).\n\nAnnulé en cas d'averses.
ATTACH;FMTTYPE=image/jpeg:https://www.adn-sms.fr/wp-content/uploads/2024/0
 2/Capture-decran-149.png
CATEGORIES:Sortie
END:VEVENT
BEGIN:VTIMEZONE
TZID:Europe/Paris
X-LIC-LOCATION:Europe/Paris
BEGIN:DAYLIGHT
DTSTART:20240331T030000
TZOFFSETFROM:+0100
TZOFFSETTO:+0200
TZNAME:CEST
END:DAYLIGHT
END:VTIMEZONE
END:VCALENDAR