BEGIN:VCALENDAR
VERSION:2.0
PRODID:-//wp-events-plugin.com//7.2.3.1//EN
TZID:Europe/Paris
X-WR-TIMEZONE:Europe/Paris
BEGIN:VEVENT
UID:15@adn-sms.fr
DTSTART;TZID=Europe/Paris:20240225T100000
DTEND;TZID=Europe/Paris:20240225T120000
DTSTAMP:20240204T131123Z
URL:https://www.adn-sms.fr/events/atelier-taille-arbuste-fruitiers/
SUMMARY:Atelier taille arbustes fruitiers
DESCRIPTION:Atelier sur le taille des petits arbustes fruitiers (type grose
 illier / cassissier / etc).\n\nA 10h aux jardins partagés d'Azé\, rue le
 s Burcheres.\n\nN'hésitez pas à amener des sécateurs si vous en avez.
CATEGORIES:Atelier
END:VEVENT
BEGIN:VTIMEZONE
TZID:Europe/Paris
X-LIC-LOCATION:Europe/Paris
BEGIN:STANDARD
DTSTART:20231029T020000
TZOFFSETFROM:+0200
TZOFFSETTO:+0100
TZNAME:CET
END:STANDARD
END:VTIMEZONE
END:VCALENDAR