BEGIN:VCALENDAR
VERSION:2.0
PRODID:-//wp-events-plugin.com//7.2.3.1//EN
TZID:Europe/Paris
X-WR-TIMEZONE:Europe/Paris
BEGIN:VEVENT
UID:7@adn-sms.fr
DTSTART;TZID=Europe/Paris:20230423T100000
DTEND;TZID=Europe/Paris:20230423T120000
DTSTAMP:20230413T100941Z
URL:https://www.adn-sms.fr/events/atelier-taille-bouturage/
SUMMARY:Atelier taille - bouturage
DESCRIPTION:Apprendre à bien réaliser la taille de printemps et à boutur
 er des arbustes.\n\nRendez vous le dimanche 23 avril à Satonnay\, 79 chem
 in de Salle (en face du château).
CATEGORIES:Atelier
END:VEVENT
BEGIN:VTIMEZONE
TZID:Europe/Paris
X-LIC-LOCATION:Europe/Paris
BEGIN:DAYLIGHT
DTSTART:20230326T030000
TZOFFSETFROM:+0100
TZOFFSETTO:+0200
TZNAME:CEST
END:DAYLIGHT
END:VTIMEZONE
END:VCALENDAR