BEGIN:VCALENDAR
VERSION:2.0
PRODID:-//wp-events-plugin.com//7.2.3.1//EN
TZID:Europe/Paris
X-WR-TIMEZONE:Europe/Paris
BEGIN:VEVENT
UID:26@adn-sms.fr
DTSTART;TZID=Europe/Paris:20241207T100000
DTEND;TZID=Europe/Paris:20241207T120000
DTSTAMP:20241201T123141Z
URL:https://www.adn-sms.fr/events/bourse-aux-graines/
SUMMARY:Bourse aux graines
DESCRIPTION:Echange / don de graines et de plants. L'occasion de discuter s
 ur nos pratiques de jardinier.\n\nN'hésitez pas à venir\, même si vous 
 n'avez pas de graines à apporter !\n\nDe 10h à 12h à la bibliothèque d
 e Saint Maurice.
ATTACH;FMTTYPE=image/jpeg:https://www.adn-sms.fr/wp-content/uploads/2024/0
 2/Graines-scaled.jpg
CATEGORIES:Atelier
END:VEVENT
BEGIN:VTIMEZONE
TZID:Europe/Paris
X-LIC-LOCATION:Europe/Paris
BEGIN:STANDARD
DTSTART:20241027T020000
TZOFFSETFROM:+0200
TZOFFSETTO:+0100
TZNAME:CET
END:STANDARD
END:VTIMEZONE
END:VCALENDAR