BEGIN:VCALENDAR
VERSION:2.0
PRODID:-//wp-events-plugin.com//7.2.3.1//EN
TZID:Europe/Paris
X-WR-TIMEZONE:Europe/Paris
BEGIN:VEVENT
UID:37@adn-sms.fr
DTSTART;TZID=Europe/Paris:20251207T140000
DTEND;TZID=Europe/Paris:20251207T153000
DTSTAMP:20251111T191411Z
URL:https://www.adn-sms.fr/events/conference-sur-le-blaireau/
SUMMARY:Conférence sur le blaireau
DESCRIPTION:Animation en intérieur sur le blaireau : comportement\, écolo
 gie\, etc. Projection de films pris dans les proches alentours par un piè
 ge vidéo infrarouge.\nSalle des associations des Jaudières\, 14h.
ATTACH;FMTTYPE=image/jpeg:https://www.adn-sms.fr/wp-content/uploads/2025/0
 1/1738315077585-scaled.jpg
CATEGORIES:Atelier
END:VEVENT
BEGIN:VTIMEZONE
TZID:Europe/Paris
X-LIC-LOCATION:Europe/Paris
BEGIN:STANDARD
DTSTART:20251026T020000
TZOFFSETFROM:+0200
TZOFFSETTO:+0100
TZNAME:CET
END:STANDARD
END:VTIMEZONE
END:VCALENDAR