BEGIN:VCALENDAR
VERSION:2.0
PRODID:-//wp-events-plugin.com//7.2.3.1//EN
TZID:Europe/Paris
X-WR-TIMEZONE:Europe/Paris
BEGIN:VEVENT
UID:5@adn-sms.fr
DTSTART;TZID=Europe/Paris:20231014T100000
DTEND;TZID=Europe/Paris:20231014T120000
DTSTAMP:20230908T212302Z
URL:https://www.adn-sms.fr/events/echange-de-graines/
SUMMARY:Échange de graines
DESCRIPTION:Echange / don de graines (florales et potagères) pour votre ja
 rdin ! Rendez vous à la bibliothèque\, le samedi 14 octobre à 10h (jusq
 u’à midi).\n\nCette année\, nous inclurons aussi les petites plantes /
  boutures d’arbustes\, mais pas en direct (système de correspondance en
 tre jardiniers\, un pliant sera déposé dans les boîtes aux lettres pour
  l’organisation).
ATTACH;FMTTYPE=image/jpeg:https://www.adn-sms.fr/wp-content/uploads/2023/0
 2/IMG_20230606_162929-scaled.jpg
CATEGORIES:Atelier
END:VEVENT
BEGIN:VTIMEZONE
TZID:Europe/Paris
X-LIC-LOCATION:Europe/Paris
BEGIN:DAYLIGHT
DTSTART:20230326T030000
TZOFFSETFROM:+0100
TZOFFSETTO:+0200
TZNAME:CEST
END:DAYLIGHT
END:VTIMEZONE
END:VCALENDAR