BEGIN:VCALENDAR
VERSION:2.0
PRODID:-//wp-events-plugin.com//7.2.3.1//EN
TZID:Europe/Paris
X-WR-TIMEZONE:Europe/Paris
BEGIN:VEVENT
UID:57@adn-sms.fr
DTSTART;TZID=Europe/Paris:20260315T101500
DTEND;TZID=Europe/Paris:20260315T113000
DTSTAMP:20260309T151913Z
URL:https://www.adn-sms.fr/events/inspection-et-pose-nichoir/
SUMMARY:Inspection et pose nichoirs
DESCRIPTION:Inspection (indices de présence) du nichoir à chouette effrai
 e (château de Satonnay) et pose du nichoir à chouette chevêche (ferme d
 u Vernay). Départ covoituré depuis la place de la mairie de Saint Mauric
 e\, à 10h20.
ATTACH;FMTTYPE=image/jpeg:https://www.adn-sms.fr/wp-content/uploads/2026/0
 3/pose-nichoir-cheveche.jpg
CATEGORIES:Sortie
END:VEVENT
BEGIN:VTIMEZONE
TZID:Europe/Paris
X-LIC-LOCATION:Europe/Paris
BEGIN:STANDARD
DTSTART:20251026T020000
TZOFFSETFROM:+0200
TZOFFSETTO:+0100
TZNAME:CET
END:STANDARD
END:VTIMEZONE
END:VCALENDAR