BEGIN:VCALENDAR
VERSION:2.0
PRODID:-//wp-events-plugin.com//7.2.3.1//EN
TZID:Europe/Paris
X-WR-TIMEZONE:Europe/Paris
BEGIN:VEVENT
UID:10@adn-sms.fr
DTSTART;TZID=Europe/Paris:20230520T100000
DTEND;TZID=Europe/Paris:20230520T120000
DTSTAMP:20230517T193140Z
URL:https://www.adn-sms.fr/events/oiseaux-chanteurs/
SUMMARY:Oiseaux chanteurs
DESCRIPTION:Sortie consacrée à la reconnaissance des passereaux par le ch
 ant. Marche de 4km. Rdv place de la mairie\, 10h.
CATEGORIES:Sortie
END:VEVENT
BEGIN:VTIMEZONE
TZID:Europe/Paris
X-LIC-LOCATION:Europe/Paris
BEGIN:DAYLIGHT
DTSTART:20230326T030000
TZOFFSETFROM:+0100
TZOFFSETTO:+0200
TZNAME:CEST
END:DAYLIGHT
END:VTIMEZONE
END:VCALENDAR