BEGIN:VCALENDAR
VERSION:2.0
PRODID:-//wp-events-plugin.com//7.2.3.1//EN
TZID:Europe/Paris
X-WR-TIMEZONE:Europe/Paris
BEGIN:VEVENT
UID:2@adn-sms.fr
DTSTART;TZID=Europe/Paris:20230514T100000
DTEND;TZID=Europe/Paris:20230514T120000
DTSTAMP:20230413T104726Z
URL:https://www.adn-sms.fr/events/passereaux-chanteurs/
SUMMARY:Passereaux chanteurs
DESCRIPTION:Sortie consacrée à la reconnaissance visuelle et surtout sono
 re des oiseaux chanteurs. 4km de marche environ. Départ place de la mairi
 e\, dimanche 14 mai\, 10h.
CATEGORIES:Sortie
END:VEVENT
BEGIN:VTIMEZONE
TZID:Europe/Paris
X-LIC-LOCATION:Europe/Paris
BEGIN:DAYLIGHT
DTSTART:20230326T030000
TZOFFSETFROM:+0100
TZOFFSETTO:+0200
TZNAME:CEST
END:DAYLIGHT
END:VTIMEZONE
END:VCALENDAR