BEGIN:VCALENDAR
VERSION:2.0
PRODID:-//wp-events-plugin.com//7.2.3.1//EN
TZID:Europe/Paris
X-WR-TIMEZONE:Europe/Paris
BEGIN:VEVENT
UID:25@adn-sms.fr
DTSTART;TZID=Europe/Paris:20241123T153000
DTEND;TZID=Europe/Paris:20241123T163000
DTSTAMP:20241122T202900Z
URL:https://www.adn-sms.fr/events/plantation-haie-2/
SUMMARY:Haie - mise en jauge des plants
DESCRIPTION:Mise en jauge des plants en vue d'une plantation début 2025. R
 endez vous sur le chemin en bordure ouest du verger des Jaudières\, au su
 d du petit bois.
ATTACH;FMTTYPE=image/jpeg:https://www.adn-sms.fr/wp-content/uploads/2024/0
 2/Terrain-haie.jpg
CATEGORIES:Atelier
END:VEVENT
BEGIN:VTIMEZONE
TZID:Europe/Paris
X-LIC-LOCATION:Europe/Paris
BEGIN:STANDARD
DTSTART:20241027T020000
TZOFFSETFROM:+0200
TZOFFSETTO:+0100
TZNAME:CET
END:STANDARD
END:VTIMEZONE
END:VCALENDAR