BEGIN:VCALENDAR
VERSION:2.0
PRODID:-//wp-events-plugin.com//7.2.3.1//EN
TZID:Europe/Paris
X-WR-TIMEZONE:Europe/Paris
BEGIN:VEVENT
UID:12@adn-sms.fr
DTSTART;TZID=Europe/Paris:20231202T140000
DTEND;TZID=Europe/Paris:20231202T160000
DTSTAMP:20231123T211810Z
URL:https://www.adn-sms.fr/events/plantation-haie/
SUMMARY:plantation haie
DESCRIPTION:Plantation de la deuxième ligne de la haie\, le long du verger
 .\n\nAttention\, terrain boueux. N'hésitez pas à amener une bêche ou un
 e pelle si vous en avez.\n\nRendez vous samedi 2 décembre à 14h\, aire d
 e loisirs des Jaudières.
ATTACH;FMTTYPE=image/jpeg:https://www.adn-sms.fr/wp-content/uploads/2023/1
 1/plantation-haie-scaled.jpg
CATEGORIES:Atelier
END:VEVENT
BEGIN:VTIMEZONE
TZID:Europe/Paris
X-LIC-LOCATION:Europe/Paris
BEGIN:STANDARD
DTSTART:20231029T020000
TZOFFSETFROM:+0200
TZOFFSETTO:+0100
TZNAME:CET
END:STANDARD
END:VTIMEZONE
END:VCALENDAR