BEGIN:VCALENDAR
VERSION:2.0
PRODID:-//wp-events-plugin.com//7.2.3.1//EN
TZID:Europe/Paris
X-WR-TIMEZONE:Europe/Paris
BEGIN:VEVENT
UID:1@adn-sms.fr
DTSTART;TZID=Europe/Paris:20230408T140000
DTEND;TZID=Europe/Paris:20230408T160000
DTSTAMP:20230319T172645Z
URL:https://www.adn-sms.fr/events/premieres-fleurs/
SUMMARY:Premières fleurs
DESCRIPTION:Rendez vous place de la Mairie
ATTACH;FMTTYPE=image/jpeg:https://www.adn-sms.fr/wp-content/uploads/2023/0
 2/12-matins-violette-des-bois-de-Rivinbis-scaled-1.jpg
CATEGORIES:Sortie
END:VEVENT
BEGIN:VTIMEZONE
TZID:Europe/Paris
X-LIC-LOCATION:Europe/Paris
BEGIN:DAYLIGHT
DTSTART:20230326T030000
TZOFFSETFROM:+0100
TZOFFSETTO:+0200
TZNAME:CEST
END:DAYLIGHT
END:VTIMEZONE
END:VCALENDAR