BEGIN:VCALENDAR
VERSION:2.0
PRODID:-//wp-events-plugin.com//7.2.3.1//EN
TZID:Europe/Paris
X-WR-TIMEZONE:Europe/Paris
BEGIN:VEVENT
UID:56@adn-sms.fr
DTSTART;TZID=Europe/Paris:20260314T101500
DTEND;TZID=Europe/Paris:20260314T120000
DTSTAMP:20260309T152610Z
URL:https://www.adn-sms.fr/events/prospection-amphibiens/
SUMMARY:Prospection amphibiens
DESCRIPTION:Sortie - prospection consacrée aux espèces précoces d'amphib
 iens (salamandre\, grenouilles brunes...) autour du hameau de Verchizeuil\
 , pour compléter les cartographies de l'atlas local des amphibiens. Dépa
 rt covoituré depuis la place de la mairie de Saint Maurice à 10h20.
ATTACH;FMTTYPE=image/jpeg:https://www.adn-sms.fr/wp-content/uploads/2025/0
 8/grenouille-rousse-adn-edited.jpg
CATEGORIES:Sortie
END:VEVENT
BEGIN:VTIMEZONE
TZID:Europe/Paris
X-LIC-LOCATION:Europe/Paris
BEGIN:STANDARD
DTSTART:20251026T020000
TZOFFSETFROM:+0200
TZOFFSETTO:+0100
TZNAME:CET
END:STANDARD
END:VTIMEZONE
END:VCALENDAR