BEGIN:VCALENDAR
VERSION:2.0
PRODID:-//wp-events-plugin.com//7.2.3.1//EN
TZID:Europe/Paris
X-WR-TIMEZONE:Europe/Paris
BEGIN:VEVENT
UID:58@adn-sms.fr
DTSTART;TZID=Europe/Paris:20260524T100000
DTEND;TZID=Europe/Paris:20260524T160000
DTSTAMP:20260424T090256Z
URL:https://www.adn-sms.fr/events/prospections-participatives-aux-jaudiere
 s/
SUMMARY:Prospections participatives aux Jaudières
DESCRIPTION:Dimanche 24 mai\, horaire encore à déterminer.\n\nProspection
  impliquant tous les volontaires\, spécialistes ou non\, pour répertorie
 r la faune et la flore sur l'ancien verger des Jaudières. Le but est de t
 ransmettre nos observations à l'entreprise qui y implantera une centrale 
 photovoltaïque et aux autorités compétentes\, afin de minimiser autant 
 que possible l'impact écologique du projet.\n\nPlusieurs espèces de prai
 ries humides\, certaines rares et / ou protégées\, ont déjà été iden
 tifiées\, il s'agit maintenant de compléter ces inventaires.
ATTACH;FMTTYPE=image/jpeg:https://www.adn-sms.fr/wp-content/uploads/2026/0
 4/dactylorhiza.jpeg
CATEGORIES:Sortie
END:VEVENT
BEGIN:VTIMEZONE
TZID:Europe/Paris
X-LIC-LOCATION:Europe/Paris
BEGIN:DAYLIGHT
DTSTART:20260329T030000
TZOFFSETFROM:+0100
TZOFFSETTO:+0200
TZNAME:CEST
END:DAYLIGHT
END:VTIMEZONE
END:VCALENDAR