BEGIN:VCALENDAR
VERSION:2.0
PRODID:-//wp-events-plugin.com//7.2.3.1//EN
TZID:Europe/Paris
X-WR-TIMEZONE:Europe/Paris
BEGIN:VEVENT
UID:20@adn-sms.fr
DTSTART;TZID=Europe/Paris:20240922T093000
DTEND;TZID=Europe/Paris:20240922T120000
DTSTAMP:20240714T163613Z
URL:https://www.adn-sms.fr/events/randonnee-de-lequinoxe/
SUMMARY:Randonnée de l'équinoxe
DESCRIPTION:Marche assez longue (9km)\, en passant par la chapelle de Saint
  Criat. Prévoir de bonnes chaussures. Départ au lavoir de Satonnay à 9h
 30.\n\nPique-nique tiré du sac à l'arrivée.
ATTACH;FMTTYPE=image/jpeg:https://www.adn-sms.fr/wp-content/uploads/2024/0
 2/Saint-Criat-2.jpg
CATEGORIES:Sortie
END:VEVENT
BEGIN:VTIMEZONE
TZID:Europe/Paris
X-LIC-LOCATION:Europe/Paris
BEGIN:DAYLIGHT
DTSTART:20240331T030000
TZOFFSETFROM:+0100
TZOFFSETTO:+0200
TZNAME:CEST
END:DAYLIGHT
END:VTIMEZONE
END:VCALENDAR