BEGIN:VCALENDAR
VERSION:2.0
PRODID:-//wp-events-plugin.com//7.2.3.1//EN
TZID:Europe/Paris
X-WR-TIMEZONE:Europe/Paris
BEGIN:VEVENT
UID:4@adn-sms.fr
DTSTART;TZID=Europe/Paris:20230910T090000
DTEND;TZID=Europe/Paris:20230910T120000
DTSTAMP:20230831T110521Z
URL:https://www.adn-sms.fr/events/randonnee-forestiere/
SUMMARY:Randonnée forestière
DESCRIPTION:Sortie consacrée à l'identification des essences forestières
  et aux différents peuplements et habitats que l'on peut trouver sur un m
 ême massif. Longue marche (9km) avec du dénivelé : prévoir de bonnes c
 haussures.\n\nRendez vous place de la mairie\, le matin du dimanche 10 sep
 tembre. Départ à 9 heures précises.\n\n&nbsp\;\n\n&nbsp\;
ATTACH;FMTTYPE=image/jpeg:https://www.adn-sms.fr/wp-content/uploads/2023/0
 2/IMG_20230303_234747.jpg
CATEGORIES:Sortie
END:VEVENT
BEGIN:VTIMEZONE
TZID:Europe/Paris
X-LIC-LOCATION:Europe/Paris
BEGIN:DAYLIGHT
DTSTART:20230326T030000
TZOFFSETFROM:+0100
TZOFFSETTO:+0200
TZNAME:CEST
END:DAYLIGHT
END:VTIMEZONE
END:VCALENDAR