BEGIN:VCALENDAR
VERSION:2.0
PRODID:-//wp-events-plugin.com//7.2.3.1//EN
TZID:Europe/Paris
X-WR-TIMEZONE:Europe/Paris
BEGIN:VEVENT
UID:38@adn-sms.fr
DTSTART;TZID=Europe/Paris:20250607T140000
DTEND;TZID=Europe/Paris:20250607T160000
DTSTAMP:20250519T080111Z
URL:https://www.adn-sms.fr/events/reunion-projet-photovoltaique-jaudieres/
SUMMARY:Réunion projet photovoltaïque Jaudières
DESCRIPTION:Réunion ouverte au public sur le projet de centrale photovolta
 ïque qui concerne l'ancien verger des Jaudières (détails techniques\, e
 njeux environnementaux\, débat). Samedi 7 juin\, salle des associations\,
  à 14h.\n\nhttps://www.adn-sms.fr/projets/la-prairie-humide-des-jaudieres
 \n\n&nbsp\;
ATTACH;FMTTYPE=image/jpeg:https://www.adn-sms.fr/wp-content/uploads/2025/0
 2/IMG_20250206_205850-scaled.jpg
CATEGORIES:Réunion
END:VEVENT
BEGIN:VTIMEZONE
TZID:Europe/Paris
X-LIC-LOCATION:Europe/Paris
BEGIN:DAYLIGHT
DTSTART:20250330T030000
TZOFFSETFROM:+0100
TZOFFSETTO:+0200
TZNAME:CEST
END:DAYLIGHT
END:VTIMEZONE
END:VCALENDAR