BEGIN:VCALENDAR
VERSION:2.0
PRODID:-//wp-events-plugin.com//7.2.3.1//EN
TZID:Europe/Paris
X-WR-TIMEZONE:Europe/Paris
BEGIN:VEVENT
UID:39@adn-sms.fr
DTSTART;TZID=Europe/Paris:20251122T100000
DTEND;TZID=Europe/Paris:20251122T120000
DTSTAMP:20251121T090805Z
URL:https://www.adn-sms.fr/events/sortie-atelier-camera-trap/
SUMMARY:Sortie - atelier camera trap
DESCRIPTION:Apprendre à bien utiliser un piège vidéo IR pour filmer la f
 aune sauvage la nuit. Pose des caméras le samedi 22 (départ à 10h place
  de la mairie). Relevé des caméras le lendemain matin (départ dimanche 
 23 à 10h\, place de la mairie).
ATTACH;FMTTYPE=image/jpeg:https://www.adn-sms.fr/wp-content/uploads/2024/0
 8/renard-article.jpg
CATEGORIES:Atelier,Sortie
END:VEVENT
BEGIN:VTIMEZONE
TZID:Europe/Paris
X-LIC-LOCATION:Europe/Paris
BEGIN:STANDARD
DTSTART:20251026T020000
TZOFFSETFROM:+0200
TZOFFSETTO:+0100
TZNAME:CET
END:STANDARD
END:VTIMEZONE
END:VCALENDAR