BEGIN:VCALENDAR
VERSION:2.0
PRODID:-//wp-events-plugin.com//7.2.3.1//EN
TZID:Europe/Paris
X-WR-TIMEZONE:Europe/Paris
BEGIN:VEVENT
UID:36@adn-sms.fr
DTSTART;TZID=Europe/Paris:20251116T100000
DTEND;TZID=Europe/Paris:20251116T120000
DTSTAMP:20251111T191631Z
URL:https://www.adn-sms.fr/events/sortie-champignons-2/
SUMMARY:Sortie camera trap
DESCRIPTION:Sortie consacrée à la pose de pièges vidéos pour filmer la 
 faune sauvage. Relevé des caméras le lendemain matin.\n\nDépart place d
 e la mairie\, 10h.
ATTACH;FMTTYPE=image/jpeg:https://www.adn-sms.fr/wp-content/uploads/2024/0
 8/daguet-article.jpg
CATEGORIES:Sortie
END:VEVENT
BEGIN:VTIMEZONE
TZID:Europe/Paris
X-LIC-LOCATION:Europe/Paris
BEGIN:STANDARD
DTSTART:20251026T020000
TZOFFSETFROM:+0200
TZOFFSETTO:+0100
TZNAME:CET
END:STANDARD
END:VTIMEZONE
END:VCALENDAR