BEGIN:VCALENDAR
VERSION:2.0
PRODID:-//wp-events-plugin.com//7.2.3.1//EN
TZID:Europe/Paris
X-WR-TIMEZONE:Europe/Paris
BEGIN:VEVENT
UID:11@adn-sms.fr
DTSTART;TZID=Europe/Paris:20231119T100000
DTEND;TZID=Europe/Paris:20231119T120000
DTSTAMP:20230828T135400Z
URL:https://www.adn-sms.fr/events/sortie-champignons/
SUMMARY:Sortie champignons
DESCRIPTION:Sortie terrain dédiée à l'identification des espèces commun
 es de champignons (pas seulement les espèces comestibles !)\n\nRendez vou
 s le dimanche 19 novembre à 10h\, place de la mairie.
ATTACH;FMTTYPE=image/jpeg:https://www.adn-sms.fr/wp-content/uploads/2023/0
 5/champignons-site-scaled.jpg
CATEGORIES:Sortie
END:VEVENT
BEGIN:VTIMEZONE
TZID:Europe/Paris
X-LIC-LOCATION:Europe/Paris
BEGIN:STANDARD
DTSTART:20231029T020000
TZOFFSETFROM:+0200
TZOFFSETTO:+0100
TZNAME:CET
END:STANDARD
END:VTIMEZONE
END:VCALENDAR