BEGIN:VCALENDAR
VERSION:2.0
PRODID:-//wp-events-plugin.com//7.2.3.1//EN
TZID:Europe/Paris
X-WR-TIMEZONE:Europe/Paris
BEGIN:VEVENT
UID:28@adn-sms.fr
DTSTART;TZID=Europe/Paris:20250222T140000
DTEND;TZID=Europe/Paris:20250222T160000
DTSTAMP:20250131T092333Z
URL:https://www.adn-sms.fr/events/sortie-grenouille-agile-ramassage-dechet
 s/
SUMMARY:Sortie grenouille agile - ramassage déchets
DESCRIPTION:Creusement des ornières utilisées par les grenouilles agiles\
 , tritons palmés et salamandres pour se reproduire. Ramassage des déchet
 s dans les bois alentours. N'hésitez pas à amener une bêche et / ou un 
 sac plastique. Rendez vous place de la mairie\, 14h.\n\n&nbsp\;
ATTACH;FMTTYPE=image/jpeg:https://www.adn-sms.fr/wp-content/uploads/2024/0
 7/IMG_20240718_173605_303-scaled.jpg
CATEGORIES:Sortie
END:VEVENT
BEGIN:VTIMEZONE
TZID:Europe/Paris
X-LIC-LOCATION:Europe/Paris
BEGIN:STANDARD
DTSTART:20241027T020000
TZOFFSETFROM:+0200
TZOFFSETTO:+0100
TZNAME:CET
END:STANDARD
END:VTIMEZONE
END:VCALENDAR