BEGIN:VCALENDAR
VERSION:2.0
PRODID:-//wp-events-plugin.com//7.2.3.1//EN
TZID:Europe/Paris
X-WR-TIMEZONE:Europe/Paris
BEGIN:VEVENT
UID:32@adn-sms.fr
DTSTART;TZID=Europe/Paris:20250517T143000
DTEND;TZID=Europe/Paris:20250517T163000
DTSTAMP:20250504T085622Z
URL:https://www.adn-sms.fr/events/sortie-invertebres-terrestres/
SUMMARY:Sortie invertébrés terrestres
DESCRIPTION:Sortie consacrée aux invertébrés en général (insectes\, es
 cargots\, araignées\, etc) que nous pourrons trouver sur une exploitation
  bio.\n\nRendez vous aux Jardins du Vernay (ferme maraîchère à Satonnay
 ) à 14h30.
ATTACH;FMTTYPE=image/jpeg:https://www.adn-sms.fr/wp-content/uploads/2024/0
 7/IMG_20240701_105003-scaled.jpg
CATEGORIES:Sortie
END:VEVENT
BEGIN:VTIMEZONE
TZID:Europe/Paris
X-LIC-LOCATION:Europe/Paris
BEGIN:DAYLIGHT
DTSTART:20250330T030000
TZOFFSETFROM:+0100
TZOFFSETTO:+0200
TZNAME:CEST
END:DAYLIGHT
END:VTIMEZONE
END:VCALENDAR