BEGIN:VCALENDAR
VERSION:2.0
PRODID:-//wp-events-plugin.com//7.2.3.1//EN
TZID:Europe/Paris
X-WR-TIMEZONE:Europe/Paris
BEGIN:VEVENT
UID:21@adn-sms.fr
DTSTART;TZID=Europe/Paris:20240622T220000
DTEND;TZID=Europe/Paris:20240622T234500
DTSTAMP:20240601T113721Z
URL:https://www.adn-sms.fr/events/sortie-nocturne-2/
SUMMARY:Sortie nocturne
DESCRIPTION:Ecoute de la faune nocturne (chouettes\, amphibiens\, etc).\n\n
 Départ aire de loisirs des Jaudières\, à 22h.
ATTACH;FMTTYPE=image/jpeg:https://www.adn-sms.fr/wp-content/uploads/2023/0
 5/jeune-chouette-2.jpg
CATEGORIES:Sortie
END:VEVENT
BEGIN:VTIMEZONE
TZID:Europe/Paris
X-LIC-LOCATION:Europe/Paris
BEGIN:DAYLIGHT
DTSTART:20240331T030000
TZOFFSETFROM:+0100
TZOFFSETTO:+0200
TZNAME:CEST
END:DAYLIGHT
END:VTIMEZONE
END:VCALENDAR