BEGIN:VCALENDAR
VERSION:2.0
PRODID:-//wp-events-plugin.com//7.2.3.1//EN
TZID:Europe/Paris
X-WR-TIMEZONE:Europe/Paris
BEGIN:VEVENT
UID:23@adn-sms.fr
DTSTART;TZID=Europe/Paris:20241124T093000
DTEND;TZID=Europe/Paris:20241124T110000
DTSTAMP:20240204T135505Z
URL:https://www.adn-sms.fr/events/sortie-oiseaux-migrateurs/
SUMMARY:Sortie oiseaux migrateurs
DESCRIPTION:Observation des oiseaux migrateurs à l'étang de Collonge.\n\n
 Départ aire de loisirs des Jaudières à 9h30.\n\nUne lunette sera mise 
 à disposition par les bénévoles. N'hésitez pas à amener des jumelles 
 si vous en avez.
ATTACH;FMTTYPE=image/jpeg:https://www.adn-sms.fr/wp-content/uploads/2024/0
 2/Vanneau-huppe.jpg
CATEGORIES:Sortie
END:VEVENT
BEGIN:VTIMEZONE
TZID:Europe/Paris
X-LIC-LOCATION:Europe/Paris
BEGIN:STANDARD
DTSTART:20241027T020000
TZOFFSETFROM:+0200
TZOFFSETTO:+0100
TZNAME:CET
END:STANDARD
END:VTIMEZONE
END:VCALENDAR