BEGIN:VCALENDAR
VERSION:2.0
PRODID:-//wp-events-plugin.com//7.2.3.1//EN
TZID:Europe/Paris
X-WR-TIMEZONE:Europe/Paris
BEGIN:VEVENT
UID:24@adn-sms.fr
DTSTART;TZID=Europe/Paris:20240504T140000
DTEND;TZID=Europe/Paris:20240504T160000
DTSTAMP:20240204T134907Z
URL:https://www.adn-sms.fr/events/sortie-orchidees-2/
SUMMARY:Sortie orchidées
DESCRIPTION:Sortie consacrée à la découverte des espèces d'orchidées q
 ui parsèment la colline\, au dessus de Champagne.\n\nDépart aire de lois
 irs des Jaudières\, à 14h.
ATTACH;FMTTYPE=image/jpeg:https://www.adn-sms.fr/wp-content/uploads/2024/0
 2/Ophrys-bourdon-e1745676165367.jpg
CATEGORIES:Sortie
END:VEVENT
BEGIN:VTIMEZONE
TZID:Europe/Paris
X-LIC-LOCATION:Europe/Paris
BEGIN:DAYLIGHT
DTSTART:20240331T030000
TZOFFSETFROM:+0100
TZOFFSETTO:+0200
TZNAME:CEST
END:DAYLIGHT
END:VTIMEZONE
END:VCALENDAR