BEGIN:VCALENDAR
VERSION:2.0
PRODID:-//wp-events-plugin.com//7.2.3.1//EN
TZID:Europe/Paris
X-WR-TIMEZONE:Europe/Paris
BEGIN:VEVENT
UID:8@adn-sms.fr
DTSTART;TZID=Europe/Paris:20230617T140000
DTEND;TZID=Europe/Paris:20230617T153000
DTSTAMP:20230426T175515Z
URL:https://www.adn-sms.fr/events/sortie-papillons/
SUMMARY:Sortie papillons
DESCRIPTION:Sortie terrain consacrée aux papillons diurnes. Très peu de m
 arche. Prévoir une tenue couvrante (hautes herbes...).\n\nRendez vous le 
 samedi 17 juin à 14h\, aire de loisirs des Jaudières (étang public).\n\
 n&nbsp\;
ATTACH;FMTTYPE=image/jpeg:https://www.adn-sms.fr/wp-content/uploads/2023/0
 4/zygene-f-1.jpg
CATEGORIES:Sortie
END:VEVENT
BEGIN:VTIMEZONE
TZID:Europe/Paris
X-LIC-LOCATION:Europe/Paris
BEGIN:DAYLIGHT
DTSTART:20230326T030000
TZOFFSETFROM:+0100
TZOFFSETTO:+0200
TZNAME:CEST
END:DAYLIGHT
END:VTIMEZONE
END:VCALENDAR