BEGIN:VCALENDAR
VERSION:2.0
PRODID:-//wp-events-plugin.com//7.2.3.1//EN
TZID:Europe/Paris
X-WR-TIMEZONE:Europe/Paris
BEGIN:VEVENT
UID:16@adn-sms.fr
DTSTART;TZID=Europe/Paris:20240317T100000
DTEND;TZID=Europe/Paris:20240317T120000
DTSTAMP:20240205T082623Z
URL:https://www.adn-sms.fr/events/sortie-pics/
SUMMARY:Sortie pics
DESCRIPTION:Sortie en forêt pour partir à la rencontre des cinq espèces 
 de pics locales et d'autres oiseaux forestiers.\n\nRendez vous à 10h plac
 e de la mairie.
ATTACH;FMTTYPE=image/jpeg:https://www.adn-sms.fr/wp-content/uploads/2023/0
 8/pic-vert-article.jpg
CATEGORIES:Sortie
END:VEVENT
BEGIN:VTIMEZONE
TZID:Europe/Paris
X-LIC-LOCATION:Europe/Paris
BEGIN:STANDARD
DTSTART:20231029T020000
TZOFFSETFROM:+0200
TZOFFSETTO:+0100
TZNAME:CET
END:STANDARD
END:VTIMEZONE
END:VCALENDAR