BEGIN:VCALENDAR
VERSION:2.0
PRODID:-//wp-events-plugin.com//7.2.3.1//EN
TZID:Europe/Paris
X-WR-TIMEZONE:Europe/Paris
BEGIN:VEVENT
UID:33@adn-sms.fr
DTSTART;TZID=Europe/Paris:20250621T140000
DTEND;TZID=Europe/Paris:20250621T160000
DTSTAMP:20250612T172455Z
URL:https://www.adn-sms.fr/events/sortie-rapaces-diurnes/
SUMMARY:Sortie rapaces diurnes
DESCRIPTION:Sortie consacrée aux rapaces diurnes : connaître leurs moeurs
 \, comment les identifier en vol...\n\nDépart devant le four banal de Sat
 onnay à 14h.\n\n(Photo Pascal Saulay)
ATTACH;FMTTYPE=image/jpeg:https://www.adn-sms.fr/wp-content/uploads/2025/0
 1/2895_935_Epervier_dEurope_en_vol.jpg
CATEGORIES:Sortie
END:VEVENT
BEGIN:VTIMEZONE
TZID:Europe/Paris
X-LIC-LOCATION:Europe/Paris
BEGIN:DAYLIGHT
DTSTART:20250330T030000
TZOFFSETFROM:+0100
TZOFFSETTO:+0200
TZNAME:CEST
END:DAYLIGHT
END:VTIMEZONE
END:VCALENDAR